BEGIN:VCALENDAR
VERSION:2.0
PRODID:-//Faconauto - ECPv6.6.4.2//NONSGML v1.0//EN
CALSCALE:GREGORIAN
METHOD:PUBLISH
X-ORIGINAL-URL:https://www.faconauto.com
X-WR-CALDESC:Eventos para Faconauto
REFRESH-INTERVAL;VALUE=DURATION:PT1H
X-Robots-Tag:noindex
X-PUBLISHED-TTL:PT1H
BEGIN:VTIMEZONE
TZID:Europe/Helsinki
BEGIN:DAYLIGHT
TZOFFSETFROM:+0200
TZOFFSETTO:+0300
TZNAME:EEST
DTSTART:20220327T010000
END:DAYLIGHT
BEGIN:STANDARD
TZOFFSETFROM:+0300
TZOFFSETTO:+0200
TZNAME:EET
DTSTART:20221030T010000
END:STANDARD
END:VTIMEZONE
BEGIN:VEVENT
DTSTART;TZID=Europe/Helsinki:20220302T110000
DTEND;TZID=Europe/Helsinki:20220302T203000
DTSTAMP:20260424T130919
CREATED:20220419T123330Z
LAST-MODIFIED:20220419T124751Z
UID:210-1646218800-1646253000@www.faconauto.com
SUMMARY:Congreso Faconuato
DESCRIPTION:Visita Congreso Faconauto para disfrutar de nuestra programación.
URL:https://www.faconauto.com/evento/congreso-faconuato/
END:VEVENT
BEGIN:VEVENT
DTSTART;TZID=Europe/Helsinki:20220303T110000
DTEND;TZID=Europe/Helsinki:20220303T153000
DTSTAMP:20260424T130919
CREATED:20220419T124925Z
LAST-MODIFIED:20220419T124925Z
UID:212-1646305200-1646321400@www.faconauto.com
SUMMARY:Congreso Faconauto
DESCRIPTION:Visita Congreso Faconauto para disfrutar de nuestra programación.
URL:https://www.faconauto.com/evento/congreso-faconauto/
END:VEVENT
END:VCALENDAR