BEGIN:VCALENDAR
VERSION:2.0
PRODID:-//Faconauto - ECPv6.6.4.2//NONSGML v1.0//EN
CALSCALE:GREGORIAN
METHOD:PUBLISH
X-WR-CALNAME:Faconauto
X-ORIGINAL-URL:https://www.faconauto.com
X-WR-CALDESC:Eventos para Faconauto
REFRESH-INTERVAL;VALUE=DURATION:PT1H
X-Robots-Tag:noindex
X-PUBLISHED-TTL:PT1H
BEGIN:VTIMEZONE
TZID:Europe/Helsinki
BEGIN:DAYLIGHT
TZOFFSETFROM:+0200
TZOFFSETTO:+0300
TZNAME:EEST
DTSTART:20220327T010000
END:DAYLIGHT
BEGIN:STANDARD
TZOFFSETFROM:+0300
TZOFFSETTO:+0200
TZNAME:EET
DTSTART:20221030T010000
END:STANDARD
END:VTIMEZONE
BEGIN:VEVENT
DTSTART;TZID=Europe/Helsinki:20220920T163000
DTEND;TZID=Europe/Helsinki:20220920T180000
DTSTAMP:20260422T122605
CREATED:20220905T124309Z
LAST-MODIFIED:20220920T123737Z
UID:8260-1663691400-1663696800@www.faconauto.com
SUMMARY:Presentación acciones Universidad Faconauto
DESCRIPTION:Agenda\nCaixa Forum Madrid\, Paseo del Prado\, 36 \n\n16:30 Bienvenida\n\nManel Ble\, director comercial canal vendors CaixaBank Payments & Consumer \nMarta Blázquez\, vicepresidenta ejecutiva de Faconauto \n\n16:40 Porqué\, el qué y cómo aprender hoy\n\nVíctor Magariño\, profesor NYU\, Esade\, UC3M\, ICEX-CECO y consejero estrategia digital \n\n17:10 Novedades Universidad Faconauto 22/23\n\nMaría Benavent\, Project Manager RPC y Laura Peral\, responsable de proyectos y RSC de Faconauto \n\n17:30 Las claves de la transformación en los concesionarios\n\nNoelia Salcedo y Manuel López\, consultores de recursos humanos en Universidad Faconauto \n\n17:45 ¿Te vas a quedar atrás? El impulso que necesitas\n\nProfesores Universidad Faconauto (B2D\, TÜV SÜD\, Grupo Persona\, Programa Superior Dirección Comercial y Marketing) \n\n18:00 Clausura\n\nRafael Catalá\, socio del despacho de abogados y asesores Carles Cuesta\, exministro de Justicia. \nXavier Oms\, director de movilidad y vendors de CaixaBank Payments & Consumer \nGerardo Pérez\, presidente de Faconauto \nLos campos marcados con * son obligatorios Soy concesionario *SíNoAsistenciaPresencialOnlineHe leído y acepto las política de privacidad de envíos comerciales. Enviar
URL:https://www.faconauto.com/evento/presentacion-curso-academico-22-23-universidad-faconauto/
LOCATION:Caixa Forum Madrid\, Paseo del Prado\, 36\, Madrid\, Madrid\, 28014\, España
END:VEVENT
BEGIN:VEVENT
DTSTART;TZID=Europe/Helsinki:20220719T103000
DTEND;TZID=Europe/Helsinki:20220719T131500
DTSTAMP:20260422T122605
CREATED:20220620T080614Z
LAST-MODIFIED:20220718T154205Z
UID:6005-1658226600-1658236500@www.faconauto.com
SUMMARY:Jornada Automoción de Aragón
DESCRIPTION:Cámara de Comercio de Zaragoza\, Pº Isabel la Católica\, 2 \n10:30 h. BIENVENIDA \n\nJosé Serón\, presidente de la comisión de automoción de la Cámara\n\nde Zaragoza \n\nMarta Blázquez\, vicepresidenta ejecutiva de Faconauto\nMaría Jesús Lorente\, presidenta de CEPYME Aragón\n\n11:00 h. PONENCIA MOBILITY CITY \n\nAntonio  María Soriano\, project manager de Mobility City\n\n11:15 h. PREVISIÓN Y CONTEXTO ECONÓMICO \n\nJuan Ramón García\, investigador BBVA Research\n\n11:40 h. CAFÉ \n12:20 h.  LA POSVENTA GENERACIONAL: LOS DATOS DE ARAGÓN \n\nJosé Luis Gata\, director de Desarrollo de Negocio Grupo Solera\n\n12:40 h.  LA REALIDAD DEL VO EN EL ENTORNO ONLINE: ARAGÓN \n\n Marcel Blanes\, responsable de Relaciones Institucionales de Adevinta\n\n13:00 h. CLAUSURA \n\n\n\nGerardo Pérez\, presidente de Faconauto\nMiguel Marzo\, presidente de CEOE Aragón\nJavier Navarro\, director general de Industria y Pymes del Gobierno de Aragón\n\n\n\nDescargar agenda \nLos campos marcados con * son obligatorios Soy concesionario *SíNoHe leído y acepto las política de privacidad de envíos comerciales. Enviar
URL:https://www.faconauto.com/evento/jornada-automocion-de-aragon/
LOCATION:Cámara Zaragoza\, Cámara de Comercio de Zaragaoza\, Zaragoza\, España
END:VEVENT
BEGIN:VEVENT
DTSTART;TZID=Europe/Helsinki:20220627T113000
DTEND;TZID=Europe/Helsinki:20220627T133000
DTSTAMP:20260422T122605
CREATED:20220531T124428Z
LAST-MODIFIED:20220620T094712Z
UID:3487-1656329400-1656336600@www.faconauto.com
SUMMARY:Jornada de Automoción Illes Balears
DESCRIPTION:Sede de la CAEB. Carrer d’Arago\, 215 (Palma de Mallorca) \n11:30 h. BIENVENIDA \n\nCarmen Planas\, presidenta de CAEB\n\nINTERVENCIONES \n\nGerardo Pérez\, presidente de Faconauto\nAndrés Vidal\, delegado territorial de Faconauto en Illes Balears\n\nCOLOQUIO \nCLAUSURA \n\nMarta Blázquez\, vicepresidenta Ejecutiva de Faconauto\nIago Negueruela i Vázquez\, conseller de Modelo Económico\, Turismo y Trabajo\n\n13:30 h. FINAL DEL ACTO \nNombre *Apellidos *EmpresaCorreo electrónicoTeléfonoSoy concesionario *SíNoHe leído y acepto las política de privacidad de envíos comerciales. Enviar formulario
URL:https://www.faconauto.com/evento/jornada-de-automocion-illes-balears/
END:VEVENT
BEGIN:VEVENT
DTSTART;TZID=Europe/Helsinki:20220615T100000
DTEND;TZID=Europe/Helsinki:20220615T133000
DTSTAMP:20260422T122605
CREATED:20220523T082218Z
LAST-MODIFIED:20220613T092309Z
UID:3101-1655287200-1655299800@www.faconauto.com
SUMMARY:Jornada de Automoción del País Vasco
DESCRIPTION:SEA EMPRESAS ALAVESAS\nPasaje Postas\, 32 – 5ª planta. Vitoria-Gasteiz \n10:00 h. ACREDITACIÓN \n10:30 h. BIENVENIDA \n\nPascal Gómez\, presidente SEA Empresas Alavesas\nGerardo Pérez\, presidente de Faconauto\n\n10:45 h. PREVISIÓN Y CONTEXTO ECONÓMICO \n\nMiguel Cardoso\, economista jefe para España en BBVA Research\n\n11:15 h. BUENAS PRÁCTICAS DE LAS ASEGURADORAS EN LA AUTOMOCIÓN \n\nAntonio Pérez Ceide\, delegado territorial norte Mutua Madrileña\n\n11:25 h. PITCH ELEVATOR: 3 MINUTOS PARA LAS BUENAS PRÁCTICAS \n\nAuto1.com • BCA  • Tilo Motion• AiVORA  • CitNOW\n\n11:45 h. CAFÉ \n12:15 h. LA POSVENTA GENERACIONAL \n\nÁlvaro Rodríguez\, gerente del área de posventa Grupo Solera\n\n12:45 h. CAMBIOS LEGISLATIVOS QUE AFECTAN A LOS CONCESIONARIOS : \nEUROPA Y ESPAÑA \n\nJuan Luis Fernández\, responsable de Asuntos Públicos de Faconauto\n\n13:00 h. CLAUSURA \n\nMarta Blázquez\, vicepresidenta ejecutiva de Faconauto\nRaimundo Ruíz de Escudero\, concejal delegado del Departamento de Movilidad y Espacio Público del Ayuntamiento de Vitoria-Gasteiz\n\nDescargar agenda \nLos campos marcados con * son obligatorios Soy concesionario *SíNoHe leído y acepto las política de privacidad de envíos comerciales. Enviar
URL:https://www.faconauto.com/evento/jornada-de-automocion-vitoria-gasteiz/
END:VEVENT
BEGIN:VEVENT
DTSTART;TZID=Europe/Helsinki:20220614T100000
DTEND;TZID=Europe/Helsinki:20220614T133000
DTSTAMP:20260422T122606
CREATED:20220523T082030Z
LAST-MODIFIED:20220613T071125Z
UID:3099-1655200800-1655213400@www.faconauto.com
SUMMARY:Jornada de Automoción Navarra
DESCRIPTION:Sede de la CEN\nC/ Doctor Huarte\, 3. Pamplona \n10:00 h. ACREDITACIÓN \n10:30 h. BIENVENIDA \n\nCarlos Sagüés\, presidente de la ANTRV\nGerardo Pérez\, presidente de FACONAUTO\nJuan Miguel Sucunza\, presidente de la CEN\n\n11:00 h. PREVISIÓN Y CONTEXTO ECONÓMICO \n\nMiguel Cardoso\, economista jefe para España en BBVA Research\n\n11:30 h. BUENAS PRÁCTICAS DE LAS ASEGURADORAS EN LA AUTOMOCIÓN \n\nAntonio Pérez Ceide\, delegado territorial norte Mutua Madrileña\n\n11:40 h. PITCH ELEVATOR: 3 MINUTOS PARA LAS BUENAS PRÁCTICAS \n\nAuto1.com • BCA • Tilo Motion • CitNOW\n\n12:00 h. CAFÉ \n12:30 h. LA POSVENTA GENERACIONAL \n\nJosé Luis Gata\, director de Desarrollo de Negocio Grupo Solera\n\n13:00 h. CAMBIOS LEGISLATIVOS QUE AFECTAN A LOS CONCESIONARIOS: EUROPA Y ESPAÑA \n\nJuan Luis Fernández\, responsable de Asuntos Públicos de Faconauto\n\n13:15 h. CLAUSURA \n\nMarta Blázquez\, vicepresidenta ejecutiva de Faconauto\nMikel Irujo\, consejero de Desarrollo Económico y Empresarial del Gobierno de Navarra\n\nDescargar agenda \nLos campos marcados con * son obligatorios Soy concesionario *SíNoHe leído y acepto las política de privacidad de envíos comerciales. Enviar
URL:https://www.faconauto.com/evento/jornada-de-automocion-pamplona/
LOCATION:Sede de la CEN\, Dr. Huarte\, 3\, Pamplona\, Navarra\, 31003\, España
END:VEVENT
BEGIN:VEVENT
DTSTART;TZID=Europe/Helsinki:20220608T103000
DTEND;TZID=Europe/Helsinki:20220608T133000
DTSTAMP:20260422T122606
CREATED:20220523T081921Z
LAST-MODIFIED:20220607T133735Z
UID:3096-1654684200-1654695000@www.faconauto.com
SUMMARY:Jornada de Automoción de Cantabria
DESCRIPTION:Sede CEOE-Cepyme Cantabria\nC. Tres de Noviembre\, 38. Santander \n10:00 h. ACREDITACIÓN \n10:30 h. BIENVENIDA \n\nNatalia de los Arcos\, presidenta de ASECOVE\nGerardo Pérez\, presidente de FACONAUTO\nEnrique Conde\, presidente de CEOE-Cepyme Cantabria\n\n11:00 h. PREVISIÓN Y CONTEXTO ECONÓMICO \n\nJuan Ramón García\, economista principal España y Portugal BBVA Research\n\n11:30 h. LA POSVENTA GENERACIONAL \n\nJosé Luis Gata\, director de Desarrollo de Negocio Grupo Solera\n\n12:00 h. CAFÉ \n12:30 h. PONENCIA  \n\nJavier Vázquez\, director comercial de Tilo Motion\n\n12:40 h. EL LUBRICANTE EN LA TRANSICIÓN HACIA EL ELÉCTRICO \n\nNohora Jiménez\,  market segment manager Total Energies\n\n12:50 h. CAMBIOS LEGISLATIVOS QUE AFECTAN A LOS CONCESIONARIOS:  \nEUROPA Y ESPAÑA \n\nJuan Luis Fernández\, responsable de Asuntos Públicos de Faconauto\n\n13:10 h. CLAUSURA \n\nFco. Javier López Marcano\, consejero de Industria\, Turismo\, Comercio e Innovación del Gobierno de Cantabria\n\nInscribirme \nDescargar agenda
URL:https://www.faconauto.com/evento/jornada-de-automocion-santander/
END:VEVENT
BEGIN:VEVENT
DTSTART;TZID=Europe/Helsinki:20220603T113000
DTEND;TZID=Europe/Helsinki:20220603T140000
DTSTAMP:20260422T122606
CREATED:20220523T075029Z
LAST-MODIFIED:20220602T095837Z
UID:3087-1654255800-1654264800@www.faconauto.com
SUMMARY:Jornada de Automoción Valladolid
DESCRIPTION:Salón de Actos de CEOE Valladolid. \nPlaza Madrid\, N.º 4 2ª planta. Valladolid \n11:30 h. BIENVENIDA \n\nÁngela de Miguel\, presidenta de CEOE Valladolid\nSantiago Aparicio\, presidente de CEOE Castilla y León\n\nINTERVENCIONES \n\nGerardo Pérez\, presidente de Faconauto\nJosé Luis López\, delegado Territorial de Faconauto en Castilla y León\nFernando del Campo González\, director general de Industria del Gobierno de Castilla y León\n\nCOLOQUIO  \n\nIntroducción por Juan Luis Fernández\, director de Asuntos Públicos de Faconauto:\n\nPunto de situación y cambios legislativos \nCLAUSURA \n\nMarta Blázquez\, vicepresidenta Ejecutiva de Faconauto\nÓscar Puente\, alcalde de Valladolid\n\n14:00 h. FINAL DEL ACTO \nLos campos marcados con * son obligatorios Soy concesionario *SíNoHe leído y acepto las política de privacidad de envíos comerciales. Enviar
URL:https://www.faconauto.com/evento/jornada-de-automocion/
LOCATION:Salón de Actos CEOE Valladolid\, Plaza Madrid\, N.º 4 2ª planta. Valladolid\, Valladolid
END:VEVENT
BEGIN:VEVENT
DTSTART;TZID=Europe/Helsinki:20220303T110000
DTEND;TZID=Europe/Helsinki:20220303T153000
DTSTAMP:20260422T122606
CREATED:20220419T124925Z
LAST-MODIFIED:20220419T124925Z
UID:212-1646305200-1646321400@www.faconauto.com
SUMMARY:Congreso Faconauto
DESCRIPTION:Visita Congreso Faconauto para disfrutar de nuestra programación.
URL:https://www.faconauto.com/evento/congreso-faconauto/
END:VEVENT
BEGIN:VEVENT
DTSTART;TZID=Europe/Helsinki:20220302T110000
DTEND;TZID=Europe/Helsinki:20220302T203000
DTSTAMP:20260422T122606
CREATED:20220419T123330Z
LAST-MODIFIED:20220419T124751Z
UID:210-1646218800-1646253000@www.faconauto.com
SUMMARY:Congreso Faconuato
DESCRIPTION:Visita Congreso Faconauto para disfrutar de nuestra programación.
URL:https://www.faconauto.com/evento/congreso-faconuato/
END:VEVENT
END:VCALENDAR